xen-devel.lists.xenproject.org archive mirror
 help / color / mirror / Atom feed
From: Platform Team regression test user <citrix-osstest@xenproject.org>
To: xen-devel@lists.xenproject.org, osstest-admin@xenproject.org
Subject: [seabios baseline-only test] 75214: trouble: blocked/broken
Date: Thu, 13 Sep 2018 21:43:02 +0100	[thread overview]
Message-ID: <osstest-75214-mainreport@xen.org> (raw)

This run is configured for baseline tests only.

flight 75214 seabios real [real]
http://osstest.xensource.com/osstest/logs/75214/

Failures and problems with tests :-(

Tests which did not succeed and are blocking,
including tests which could not be run:
 build-amd64-xsm                 <job status>                 broken
 build-amd64-pvops               <job status>                 broken
 build-amd64                     <job status>                 broken
 build-i386-pvops                <job status>                 broken
 build-i386                      <job status>                 broken
 build-i386-xsm                  <job status>                 broken
 build-i386                    4 host-install(4)         broken REGR. vs. 75162
 build-amd64                   4 host-install(4)         broken REGR. vs. 75162
 build-amd64-pvops             4 host-install(4)         broken REGR. vs. 75162
 build-i386-xsm                4 host-install(4)         broken REGR. vs. 75162
 build-i386-pvops              4 host-install(4)         broken REGR. vs. 75162
 build-amd64-xsm               4 host-install(4)         broken REGR. vs. 75162

Tests which did not succeed, but are not blocking:
 test-amd64-amd64-xl-qemuu-debianhvm-amd64  1 build-check(1)        blocked n/a
 test-amd64-amd64-qemuu-nested-intel  1 build-check(1)              blocked n/a
 test-amd64-i386-libvirt-qemuu-debianhvm-amd64-xsm 1 build-check(1) blocked n/a
 build-amd64-libvirt           1 build-check(1)               blocked  n/a
 test-amd64-amd64-xl-qemuu-debianhvm-amd64-xsm  1 build-check(1)    blocked n/a
 test-amd64-i386-qemuu-rhel6hvm-amd  1 build-check(1)               blocked n/a
 test-amd64-i386-xl-qemuu-debianhvm-amd64-xsm  1 build-check(1)     blocked n/a
 test-amd64-i386-xl-qemuu-debianhvm-amd64-shadow  1 build-check(1)  blocked n/a
 test-amd64-amd64-xl-qemuu-ws16-amd64  1 build-check(1)             blocked n/a
 test-amd64-i386-xl-qemuu-win10-i386  1 build-check(1)              blocked n/a
 test-amd64-i386-qemuu-rhel6hvm-intel  1 build-check(1)             blocked n/a
 test-amd64-i386-xl-qemuu-win7-amd64  1 build-check(1)              blocked n/a
 test-amd64-amd64-xl-qemuu-dmrestrict-amd64-dmrestrict 1 build-check(1) blocked n/a
 test-amd64-amd64-xl-qemuu-debianhvm-amd64-shadow  1 build-check(1) blocked n/a
 test-amd64-amd64-libvirt-qemuu-debianhvm-amd64-xsm 1 build-check(1) blocked n/a
 test-amd64-amd64-qemuu-nested-amd  1 build-check(1)               blocked  n/a
 test-amd64-amd64-xl-qemuu-win7-amd64  1 build-check(1)             blocked n/a
 test-amd64-amd64-xl-qemuu-win10-i386  1 build-check(1)             blocked n/a
 test-amd64-i386-xl-qemuu-ws16-amd64  1 build-check(1)              blocked n/a
 test-amd64-i386-xl-qemuu-dmrestrict-amd64-dmrestrict 1 build-check(1) blocked n/a
 test-amd64-i386-xl-qemuu-debianhvm-amd64  1 build-check(1)         blocked n/a
 build-i386-libvirt            1 build-check(1)               blocked  n/a

version targeted for testing:
 seabios              bcd82420a32d1fe597a88e601959e9d5fe4c70df
baseline version:
 seabios              e4db8c6db9356358d6a34caa19166ae72337e0cc

Last test of basis    75162  2018-09-04 02:24:18 Z    9 days
Testing same since    75214  2018-09-13 12:49:43 Z    0 days    1 attempts

------------------------------------------------------------
People who touched revisions under test:
  Gerd Hoffmann <kraxel@redhat.com>
  Jing Liu <jing2.liu@linux.intel.com>

jobs:
 build-amd64-xsm                                              broken  
 build-i386-xsm                                               broken  
 build-amd64                                                  broken  
 build-i386                                                   broken  
 build-amd64-libvirt                                          blocked 
 build-i386-libvirt                                           blocked 
 build-amd64-pvops                                            broken  
 build-i386-pvops                                             broken  
 test-amd64-amd64-libvirt-qemuu-debianhvm-amd64-xsm           blocked 
 test-amd64-i386-libvirt-qemuu-debianhvm-amd64-xsm            blocked 
 test-amd64-amd64-xl-qemuu-debianhvm-amd64-xsm                blocked 
 test-amd64-i386-xl-qemuu-debianhvm-amd64-xsm                 blocked 
 test-amd64-amd64-qemuu-nested-amd                            blocked 
 test-amd64-i386-qemuu-rhel6hvm-amd                           blocked 
 test-amd64-amd64-xl-qemuu-debianhvm-amd64                    blocked 
 test-amd64-i386-xl-qemuu-debianhvm-amd64                     blocked 
 test-amd64-amd64-xl-qemuu-win7-amd64                         blocked 
 test-amd64-i386-xl-qemuu-win7-amd64                          blocked 
 test-amd64-amd64-xl-qemuu-ws16-amd64                         blocked 
 test-amd64-i386-xl-qemuu-ws16-amd64                          blocked 
 test-amd64-amd64-xl-qemuu-dmrestrict-amd64-dmrestrict        blocked 
 test-amd64-i386-xl-qemuu-dmrestrict-amd64-dmrestrict         blocked 
 test-amd64-amd64-xl-qemuu-win10-i386                         blocked 
 test-amd64-i386-xl-qemuu-win10-i386                          blocked 
 test-amd64-amd64-qemuu-nested-intel                          blocked 
 test-amd64-i386-qemuu-rhel6hvm-intel                         blocked 
 test-amd64-amd64-xl-qemuu-debianhvm-amd64-shadow             blocked 
 test-amd64-i386-xl-qemuu-debianhvm-amd64-shadow              blocked 


------------------------------------------------------------
sg-report-flight on osstest.xs.citrite.net
logs: /home/osstest/logs
images: /home/osstest/images

Logs, config files, etc. are available at
    http://osstest.xensource.com/osstest/logs

Test harness code can be found at
    http://xenbits.xensource.com/gitweb?p=osstest.git;a=summary

broken-job build-amd64-xsm broken
broken-job build-amd64-pvops broken
broken-job build-amd64 broken
broken-job build-i386-pvops broken
broken-job build-i386 broken
broken-job build-i386-xsm broken
broken-step build-i386 host-install(4)
broken-step build-amd64 host-install(4)
broken-step build-amd64-pvops host-install(4)
broken-step build-i386-xsm host-install(4)
broken-step build-i386-pvops host-install(4)
broken-step build-amd64-xsm host-install(4)

Push not applicable.

------------------------------------------------------------
commit bcd82420a32d1fe597a88e601959e9d5fe4c70df
Author: Jing Liu <jing2.liu@linux.intel.com>
Date:   Fri Aug 24 16:53:01 2018 +0800

    pci: recognize RH PCI legacy bridge resource reservation capability
    
    Enable the firmware recognizing RedHat legacy PCI bridge device ID,
    so QEMU can reserve additional PCI bridge resource capability.
    Change the debug level lower to 3 when it is non-QEMU bridge.
    
    Signed-off-by: Jing Liu <jing2.liu@linux.intel.com>
    Reviewed-by: Laszlo Ersek <lersek@redhat.com>
    Reviewed-by: Marcel Apfelbaum<marcel.apfelbaum@gmail.com>
    Message-id: 1535100781-3910-4-git-send-email-jing2.liu@linux.intel.com
    Signed-off-by: Gerd Hoffmann <kraxel@redhat.com>

commit 478bc3e99394601f28a9cbb9f61cb41628962ac7
Author: Jing Liu <jing2.liu@linux.intel.com>
Date:   Fri Aug 24 16:53:00 2018 +0800

    pci: clean up the debug message for pci capability found
    
    Improve the debug message when QEMU resource reserve cap
    is not found and when the vendor-id or device-id does't match
    REDHAT special ones.
    
    Signed-off-by: Jing Liu <jing2.liu@linux.intel.com>
    Message-id: 1535100781-3910-3-git-send-email-jing2.liu@linux.intel.com
    Signed-off-by: Gerd Hoffmann <kraxel@redhat.com>

commit 2c455ccc0cd67412983b6ae575190d5036256817
Author: Jing Liu <jing2.liu@linux.intel.com>
Date:   Fri Aug 24 16:52:59 2018 +0800

    pci: fix the return value for truncated capability
    
    Return zero when finding truncated capability.
    
    Signed-off-by: Jing Liu <jing2.liu@linux.intel.com>
    Message-id: 1535100781-3910-2-git-send-email-jing2.liu@linux.intel.com
    Signed-off-by: Gerd Hoffmann <kraxel@redhat.com>

_______________________________________________
Xen-devel mailing list
Xen-devel@lists.xenproject.org
https://lists.xenproject.org/mailman/listinfo/xen-devel

                 reply	other threads:[~2018-09-13 20:43 UTC|newest]

Thread overview: [no followups] expand[flat|nested]  mbox.gz  Atom feed

Reply instructions:

You may reply publicly to this message via plain-text email
using any one of the following methods:

* Save the following mbox file, import it into your mail client,
  and reply-to-all from there: mbox

  Avoid top-posting and favor interleaved quoting:
  https://en.wikipedia.org/wiki/Posting_style#Interleaved_style

* Reply using the --to, --cc, and --in-reply-to
  switches of git-send-email(1):

  git send-email \
    --in-reply-to=osstest-75214-mainreport@xen.org \
    --to=citrix-osstest@xenproject.org \
    --cc=osstest-admin@xenproject.org \
    --cc=xen-devel@lists.xenproject.org \
    /path/to/YOUR_REPLY

  https://kernel.org/pub/software/scm/git/docs/git-send-email.html

* If your mail client supports setting the In-Reply-To header
  via mailto: links, try the mailto: link
Be sure your reply has a Subject: header at the top and a blank line before the message body.
This is a public inbox, see mirroring instructions
for how to clone and mirror all data and code used for this inbox;
as well as URLs for NNTP newsgroup(s).