xen-devel.lists.xenproject.org archive mirror
 help / color / mirror / Atom feed
From: Platform Team regression test user <citrix-osstest@xenproject.org>
To: xen-devel@lists.xenproject.org, osstest-admin@xenproject.org
Subject: [ovmf baseline-only test] 75215: trouble: blocked/broken
Date: Fri, 14 Sep 2018 02:07:54 +0100	[thread overview]
Message-ID: <osstest-75215-mainreport@xen.org> (raw)

This run is configured for baseline tests only.

flight 75215 ovmf real [real]
http://osstest.xensource.com/osstest/logs/75215/

Failures and problems with tests :-(

Tests which did not succeed and are blocking,
including tests which could not be run:
 build-amd64-xsm                 <job status>                 broken
 build-i386                      <job status>                 broken
 build-amd64-pvops               <job status>                 broken
 build-i386-xsm                  <job status>                 broken
 build-amd64                     <job status>                 broken
 build-i386-pvops                <job status>                 broken

Tests which did not succeed, but are not blocking:
 test-amd64-amd64-xl-qemuu-ovmf-amd64  1 build-check(1)             blocked n/a
 build-amd64-libvirt           1 build-check(1)               blocked  n/a
 test-amd64-i386-xl-qemuu-ovmf-amd64  1 build-check(1)              blocked n/a
 build-i386-libvirt            1 build-check(1)               blocked  n/a
 build-i386                    4 host-install(4)       broken baseline untested
 build-i386-pvops              4 host-install(4)       broken baseline untested
 build-i386-xsm                4 host-install(4)       broken baseline untested
 build-amd64-xsm               4 host-install(4)       broken baseline untested
 build-amd64-pvops             4 host-install(4)       broken baseline untested
 build-amd64                   4 host-install(4)       broken baseline untested

version targeted for testing:
 ovmf                 52664c525223a36e5cb9b141b11dec413908b1dd
baseline version:
 ovmf                 7c41b8135de692ea45334747b73936ea6804622f

Last test of basis    75211  2018-09-13 04:19:49 Z    0 days
Testing same since    75215  2018-09-13 15:19:33 Z    0 days    1 attempts

------------------------------------------------------------
People who touched revisions under test:
  Chen A Chen <chen.a.chen@intel.com>

jobs:
 build-amd64-xsm                                              broken  
 build-i386-xsm                                               broken  
 build-amd64                                                  broken  
 build-i386                                                   broken  
 build-amd64-libvirt                                          blocked 
 build-i386-libvirt                                           blocked 
 build-amd64-pvops                                            broken  
 build-i386-pvops                                             broken  
 test-amd64-amd64-xl-qemuu-ovmf-amd64                         blocked 
 test-amd64-i386-xl-qemuu-ovmf-amd64                          blocked 


------------------------------------------------------------
sg-report-flight on osstest.xs.citrite.net
logs: /home/osstest/logs
images: /home/osstest/images

Logs, config files, etc. are available at
    http://osstest.xensource.com/osstest/logs

Test harness code can be found at
    http://xenbits.xensource.com/gitweb?p=osstest.git;a=summary

broken-job build-amd64-xsm broken
broken-job build-i386 broken
broken-job build-amd64-pvops broken
broken-job build-i386-xsm broken
broken-job build-amd64 broken
broken-job build-i386-pvops broken
broken-step build-i386 host-install(4)
broken-step build-i386-pvops host-install(4)
broken-step build-i386-xsm host-install(4)
broken-step build-amd64-xsm host-install(4)
broken-step build-amd64-pvops host-install(4)
broken-step build-amd64 host-install(4)

Push not applicable.

------------------------------------------------------------
commit 52664c525223a36e5cb9b141b11dec413908b1dd
Author: Chen A Chen <chen.a.chen@intel.com>
Date:   Fri Jun 29 11:34:51 2018 +0800

    SignedCapsulePkg: Removing ipf which is no longer supported from edk2.
    
    Removing rules for Ipf sources file:
    * Remove the source file which path with "ipf" and also listed in
      [Sources.IPF] section of INF file.
    * Remove the source file which listed in [Components.IPF] section
      of DSC file and not listed in any other [Components] section.
    * Remove the embedded Ipf code for MDE_CPU_IPF.
    
    Removing rules for Inf file:
    * Remove IPF from VALID_ARCHITECTURES comments.
    * Remove DXE_SAL_DRIVER from LIBRARY_CLASS in [Defines] section.
    * Remove the INF which only listed in [Components.IPF] section in DSC.
    * Remove statements from [BuildOptions] that provide IPF specific flags.
    * Remove any IPF sepcific sections.
    
    Removing rules for Dec file:
    * Remove [Includes.IPF] section from Dec.
    
    Removing rules for Dsc file:
    * Remove IPF from SUPPORTED_ARCHITECTURES in [Defines] section of DSC.
    * Remove any IPF specific sections.
    * Remove statements from [BuildOptions] that provide IPF specific flags.
    
    Cc: Jiewen Yao <jiewen.yao@intel.com>
    Cc: Michael D Kinney <michael.d.kinney@intel.com>
    Contributed-under: TianoCore Contribution Agreement 1.1
    Signed-off-by: Chen A Chen <chen.a.chen@intel.com>
    Reviewed-by: <Jiewen.yao@intel.com>

commit 29cc93f773342cf28f7f2af5bc34ab8c8ba728f8
Author: Chen A Chen <chen.a.chen@intel.com>
Date:   Fri Jun 29 11:30:56 2018 +0800

    PcAtChipsetPkg: Removing ipf which is no longer supported from edk2.
    
    Removing rules for Ipf sources file:
    * Remove the source file which path with "ipf" and also listed in
      [Sources.IPF] section of INF file.
    * Remove the source file which listed in [Components.IPF] section
      of DSC file and not listed in any other [Components] section.
    * Remove the embedded Ipf code for MDE_CPU_IPF.
    
    Removing rules for Inf file:
    * Remove IPF from VALID_ARCHITECTURES comments.
    * Remove DXE_SAL_DRIVER from LIBRARY_CLASS in [Defines] section.
    * Remove the INF which only listed in [Components.IPF] section in DSC.
    * Remove statements from [BuildOptions] that provide IPF specific flags.
    * Remove any IPF sepcific sections.
    
    Removing rules for Dec file:
    * Remove [Includes.IPF] section from Dec.
    
    Removing rules for Dsc file:
    * Remove IPF from SUPPORTED_ARCHITECTURES in [Defines] section of DSC.
    * Remove any IPF specific sections.
    * Remove statements from [BuildOptions] that provide IPF specific flags.
    
    Cc: Ruiyu Ni <ruiyu.ni@intel.com>
    Cc: Michael D Kinney <michael.d.kinney@intel.com>
    Contributed-under: TianoCore Contribution Agreement 1.1
    Signed-off-by: Chen A Chen <chen.a.chen@intel.com>
    Reviewed-by: Ruiyu Ni <ruiyu.ni@intel.com>

commit 6861b0fe7275f8ff73a19a34064dbe36c8e1b72f
Author: Chen A Chen <chen.a.chen@intel.com>
Date:   Fri Jun 29 11:25:30 2018 +0800

    IntelSiliconPkg: Removing ipf which is no longer supported from edk2.
    
    Removing rules for Ipf sources file:
    * Remove the source file which path with "ipf" and also listed in
      [Sources.IPF] section of INF file.
    * Remove the source file which listed in [Components.IPF] section
      of DSC file and not listed in any other [Components] section.
    * Remove the embedded Ipf code for MDE_CPU_IPF.
    
    Removing rules for Inf file:
    * Remove IPF from VALID_ARCHITECTURES comments.
    * Remove DXE_SAL_DRIVER from LIBRARY_CLASS in [Defines] section.
    * Remove the INF which only listed in [Components.IPF] section in DSC.
    * Remove statements from [BuildOptions] that provide IPF specific flags.
    * Remove any IPF sepcific sections.
    
    Removing rules for Dec file:
    * Remove [Includes.IPF] section from Dec.
    
    Removing rules for Dsc file:
    * Remove IPF from SUPPORTED_ARCHITECTURES in [Defines] section of DSC.
    * Remove any IPF specific sections.
    * Remove statements from [BuildOptions] that provide IPF specific flags.
    
    Cc: Jiewen Yao <jiewen.yao@intel.com>
    Cc: Rangasai V Chaganty <rangasai.v.chaganty@intel.com>
    Cc: Michael D Kinney <michael.d.kinney@intel.com>
    Contributed-under: TianoCore Contribution Agreement 1.1
    Signed-off-by: Chen A Chen <chen.a.chen@intel.com>
    Reviewed-by: <Jiewen.yao@intel.com>

_______________________________________________
Xen-devel mailing list
Xen-devel@lists.xenproject.org
https://lists.xenproject.org/mailman/listinfo/xen-devel

                 reply	other threads:[~2018-09-14  1:07 UTC|newest]

Thread overview: [no followups] expand[flat|nested]  mbox.gz  Atom feed

Reply instructions:

You may reply publicly to this message via plain-text email
using any one of the following methods:

* Save the following mbox file, import it into your mail client,
  and reply-to-all from there: mbox

  Avoid top-posting and favor interleaved quoting:
  https://en.wikipedia.org/wiki/Posting_style#Interleaved_style

* Reply using the --to, --cc, and --in-reply-to
  switches of git-send-email(1):

  git send-email \
    --in-reply-to=osstest-75215-mainreport@xen.org \
    --to=citrix-osstest@xenproject.org \
    --cc=osstest-admin@xenproject.org \
    --cc=xen-devel@lists.xenproject.org \
    /path/to/YOUR_REPLY

  https://kernel.org/pub/software/scm/git/docs/git-send-email.html

* If your mail client supports setting the In-Reply-To header
  via mailto: links, try the mailto: link
Be sure your reply has a Subject: header at the top and a blank line before the message body.
This is a public inbox, see mirroring instructions
for how to clone and mirror all data and code used for this inbox;
as well as URLs for NNTP newsgroup(s).