xen-devel.lists.xenproject.org archive mirror
 help / color / mirror / Atom feed
From: Platform Team regression test user <citrix-osstest@xenproject.org>
To: xen-devel@lists.xenproject.org, osstest-admin@xenproject.org
Subject: [ovmf baseline-only test] 75241: trouble: blocked/broken
Date: Tue, 18 Sep 2018 15:28:21 +0100	[thread overview]
Message-ID: <osstest-75241-mainreport@xen.org> (raw)

This run is configured for baseline tests only.

flight 75241 ovmf real [real]
http://osstest.xensource.com/osstest/logs/75241/

Failures and problems with tests :-(

Tests which did not succeed and are blocking,
including tests which could not be run:
 build-amd64-xsm                 <job status>                 broken
 build-i386                      <job status>                 broken
 build-amd64-pvops               <job status>                 broken
 build-i386-xsm                  <job status>                 broken
 build-amd64                     <job status>                 broken
 build-i386-pvops                <job status>                 broken

Tests which did not succeed, but are not blocking:
 test-amd64-amd64-xl-qemuu-ovmf-amd64  1 build-check(1)             blocked n/a
 build-amd64-libvirt           1 build-check(1)               blocked  n/a
 test-amd64-i386-xl-qemuu-ovmf-amd64  1 build-check(1)              blocked n/a
 build-i386-libvirt            1 build-check(1)               blocked  n/a
 build-i386                    4 host-install(4)       broken baseline untested
 build-i386-pvops              4 host-install(4)       broken baseline untested
 build-i386-xsm                4 host-install(4)       broken baseline untested
 build-amd64-xsm               4 host-install(4)       broken baseline untested
 build-amd64-pvops             4 host-install(4)       broken baseline untested
 build-amd64                   4 host-install(4)       broken baseline untested

version targeted for testing:
 ovmf                 b06dfd40bb5cf9fdd626a79a300253f193b600ae
baseline version:
 ovmf                 cfd10276ce747129bb26410bc00ac13ae1cd5d6f

Last test of basis    75224  2018-09-14 22:50:19 Z    3 days
Testing same since    75241  2018-09-18 09:50:37 Z    0 days    1 attempts

------------------------------------------------------------
People who touched revisions under test:
  Star Zeng <star.zeng@intel.com>

jobs:
 build-amd64-xsm                                              broken  
 build-i386-xsm                                               broken  
 build-amd64                                                  broken  
 build-i386                                                   broken  
 build-amd64-libvirt                                          blocked 
 build-i386-libvirt                                           blocked 
 build-amd64-pvops                                            broken  
 build-i386-pvops                                             broken  
 test-amd64-amd64-xl-qemuu-ovmf-amd64                         blocked 
 test-amd64-i386-xl-qemuu-ovmf-amd64                          blocked 


------------------------------------------------------------
sg-report-flight on osstest.xs.citrite.net
logs: /home/osstest/logs
images: /home/osstest/images

Logs, config files, etc. are available at
    http://osstest.xensource.com/osstest/logs

Test harness code can be found at
    http://xenbits.xensource.com/gitweb?p=osstest.git;a=summary

broken-job build-amd64-xsm broken
broken-job build-i386 broken
broken-job build-amd64-pvops broken
broken-job build-i386-xsm broken
broken-job build-amd64 broken
broken-job build-i386-pvops broken
broken-step build-i386 host-install(4)
broken-step build-i386-pvops host-install(4)
broken-step build-i386-xsm host-install(4)
broken-step build-amd64-xsm host-install(4)
broken-step build-amd64-pvops host-install(4)
broken-step build-amd64 host-install(4)

Push not applicable.

------------------------------------------------------------
commit b06dfd40bb5cf9fdd626a79a300253f193b600ae
Author: Star Zeng <star.zeng@intel.com>
Date:   Thu Sep 13 14:27:47 2018 +0800

    IntelSiliconPkg IntelVTdDxe: Check HeaderType if func 0 is implemented
    
    REF: https://bugzilla.tianocore.org/show_bug.cgi?id=1169
    
    Current code checks HeaderType of Function 0 even Function 0 is not
    implemented. HeaderType value will be 0xFF if Function 0 is not
    implemented, then MaxFunction will be set to PCI_MAX_FUNC + 1.
    
    The code can be optimized to only check HeaderType if Function 0 is
    implemented.
    
    Test done:
    With this patch, the result is same with the result after the patch at
    https://lists.01.org/pipermail/edk2-devel/2018-September/029623.html.
    
    Cc: Jiewen Yao <jiewen.yao@intel.com>
    Cc: Rangasai V Chaganty <rangasai.v.chaganty@intel.com>
    Cc: Tomson Chang <tomson.chang@intel.com>
    Cc: Jenny Huang <jenny.huang@intel.com>
    Cc: Amy Chan <amy.chan@intel.com>
    Cc: Ruiyu Ni <ruiyu.ni@intel.com>
    Contributed-under: TianoCore Contribution Agreement 1.1
    Signed-off-by: Star Zeng <star.zeng@intel.com>
    Reviewed-by: Jiewen Yao <jiewen.yao@intel.com>

commit e69d7e99e77d2f7aa1390502d8b42d61f9aeb99a
Author: Star Zeng <star.zeng@intel.com>
Date:   Thu Sep 13 10:07:30 2018 +0800

    IntelSiliconPkg IntelVTdDxe: Optimize when func 0 is not implemented
    
    REF: https://bugzilla.tianocore.org/show_bug.cgi?id=1169
    
    PCI spec:
    They are also required to always implement function 0 in the device.
    Implementing other functions is optional and may be assigned in any
    order (i.e., a two-function device must respond to function 0 but
    can choose any of the other possible function numbers (1-7) for the
    second function).
    
    This patch updates ScanPciBus() to not scan other functions if
    function 0 is not implemented.
    
    Test done:
    Added debug code below in the second loop of ScanPciBus(),
    compared the debug logs with and without this patch, many
    non-0 unimplemented functions are skipped correctly.
    
      DEBUG ((
        DEBUG_INFO,
        "%a() B%02xD%02xF%02x VendorId: %04x DeviceId: %04x\n",
        __FUNCTION__,
        Bus,
        Device,
        Function,
        VendorID,
        DeviceID
        ));
    
    Cc: Jiewen Yao <jiewen.yao@intel.com>
    Cc: Rangasai V Chaganty <rangasai.v.chaganty@intel.com>
    Cc: Tomson Chang <tomson.chang@intel.com>
    Cc: Jenny Huang <jenny.huang@intel.com>
    Cc: Amy Chan <amy.chan@intel.com>
    Contributed-under: TianoCore Contribution Agreement 1.1
    Signed-off-by: Star Zeng <star.zeng@intel.com>
    Reviewed-by: Ruiyu Ni <ruiyu.ni@intel.com>
    Reviewed-by: Jiewen Yao <jiewen.yao@intel.com>

_______________________________________________
Xen-devel mailing list
Xen-devel@lists.xenproject.org
https://lists.xenproject.org/mailman/listinfo/xen-devel

                 reply	other threads:[~2018-09-18 14:28 UTC|newest]

Thread overview: [no followups] expand[flat|nested]  mbox.gz  Atom feed

Reply instructions:

You may reply publicly to this message via plain-text email
using any one of the following methods:

* Save the following mbox file, import it into your mail client,
  and reply-to-all from there: mbox

  Avoid top-posting and favor interleaved quoting:
  https://en.wikipedia.org/wiki/Posting_style#Interleaved_style

* Reply using the --to, --cc, and --in-reply-to
  switches of git-send-email(1):

  git send-email \
    --in-reply-to=osstest-75241-mainreport@xen.org \
    --to=citrix-osstest@xenproject.org \
    --cc=osstest-admin@xenproject.org \
    --cc=xen-devel@lists.xenproject.org \
    /path/to/YOUR_REPLY

  https://kernel.org/pub/software/scm/git/docs/git-send-email.html

* If your mail client supports setting the In-Reply-To header
  via mailto: links, try the mailto: link
Be sure your reply has a Subject: header at the top and a blank line before the message body.
This is a public inbox, see mirroring instructions
for how to clone and mirror all data and code used for this inbox;
as well as URLs for NNTP newsgroup(s).