From mboxrd@z Thu Jan 1 00:00:00 1970 From: osstest service owner Subject: [xen-unstable-coverity test] 83844: all pass - PUSHED Date: Thu, 25 Feb 2016 04:40:16 +0000 Message-ID: Mime-Version: 1.0 Content-Type: multipart/mixed; boundary="===============0167834580224875583==" Return-path: List-Unsubscribe: , List-Post: List-Help: List-Subscribe: , Sender: xen-devel-bounces@lists.xen.org Errors-To: xen-devel-bounces@lists.xen.org To: xen-devel@lists.xensource.com, osstest-admin@xenproject.org List-Id: xen-devel@lists.xenproject.org --===============0167834580224875583== Content-Length: 7911 Content-Transfer-Encoding: quoted-printable flight 83844 xen-unstable-coverity real [real] http://logs.test-lab.xenproject.org/osstest/logs/83844/ Perfect :-) All tests in this flight passed version targeted for testing: xen 2066ddd2327daeb2d92687ea2a88383f0b57a56c baseline version: xen 3fba5f5ec6bd2c9375735ae09d9615ccb1d7c0d0 Last test of basis 82984 2016-02-17 09:27:56 Z 7 days Testing same since 83844 2016-02-24 09:27:19 Z 0 days 1 attempts ------------------------------------------------------------ People who touched revisions under test: Andrew Cooper Corneliu ZUZU Dario Faggioli Dirk Behme Doug Goldstein Feng Wu George Dunlap Harmandeep Kaur Ian Campbell Ian Jackson Jan Beulich Jim Fehlig Juergen Gross Kevin Tian Konrad Rzeszutek Wilk Razvan Cojocaru Roger Pau Monn=C3=A9 Samuel Thibault Stefano Stabellini Wei Liu jobs: coverity-amd64 pass ------------------------------------------------------------ sg-report-flight on osstest.test-lab.xenproject.org logs: /home/logs/logs images: /home/logs/images Logs, config files, etc. are available at http://logs.test-lab.xenproject.org/osstest/logs Explanation of these reports, and of osstest in general, is at http://xenbits.xen.org/gitweb/=3Fp=3Dosstest.git;a=3Dblob;f=3DREADME.email;hb=3Dmaster http://xenbits.xen.org/gitweb/=3Fp=3Dosstest.git;a=3Dblob;f=3DREADME;hb=3Dmaster Test harness code can be found at http://xenbits.xen.org/gitweb=3Fp=3Dosstest.git;a=3Dsummary Pushing revision : + branch=3Dxen-unstable-coverity + revision=3D2066ddd2327daeb2d92687ea2a88383f0b57a56c + . ./cri-lock-repos ++ . ./cri-common +++ . ./cri-getconfig +++ umask 002 +++ getrepos ++++ getconfig Repos ++++ perl -e ' use Osstest; readglobalconfig(); print $c{"Repos"} or die $!; ' +++ local repos=3D/home/osstest/repos +++ '[' -z /home/osstest/repos ']' +++ '[' '!' -d /home/osstest/repos ']' +++ echo /home/osstest/repos ++ repos=3D/home/osstest/repos ++ repos_lock=3D/home/osstest/repos/lock ++ '[' x '!=3D' x/home/osstest/repos/lock ']' ++ OSSTEST_REPOS_LOCK_LOCKED=3D/home/osstest/repos/lock ++ exec with-lock-ex -w /home/osstest/repos/lock ./ap-push xen-unstable-coverity 2066ddd2327daeb2d92687ea2a88383f0b57a56c + branch=3Dxen-unstable-coverity + revision=3D2066ddd2327daeb2d92687ea2a88383f0b57a56c + . ./cri-lock-repos ++ . ./cri-common +++ . ./cri-getconfig +++ umask 002 +++ getrepos ++++ getconfig Repos ++++ perl -e ' use Osstest; readglobalconfig(); print $c{"Repos"} or die $!; ' +++ local repos=3D/home/osstest/repos +++ '[' -z /home/osstest/repos ']' +++ '[' '!' -d /home/osstest/repos ']' +++ echo /home/osstest/repos ++ repos=3D/home/osstest/repos ++ repos_lock=3D/home/osstest/repos/lock ++ '[' x/home/osstest/repos/lock '!=3D' x/home/osstest/repos/lock ']' + . ./cri-common ++ . ./cri-getconfig ++ umask 002 + select_xenbranch + case "$branch" in + tree=3Dxen + xenbranch=3Dxen-unstable-coverity + qemuubranch=3Dqemu-upstream-unstable-coverity + qemuubranch=3Dqemu-upstream-unstable + '[' xxen =3D xlinux ']' + linuxbranch=3D + '[' xqemu-upstream-unstable =3D x ']' + select_prevxenbranch ++ ./cri-getprevxenbranch xen-unstable-coverity + prevxenbranch=3Dxen-unstable + '[' x2066ddd2327daeb2d92687ea2a88383f0b57a56c =3D x ']' + : tested/2.6.39.x + . ./ap-common ++ : osstest@xenbits.xen.org +++ getconfig OsstestUpstream +++ perl -e ' use Osstest; readglobalconfig(); print $c{"OsstestUpstream"} or die $!; ' ++ : ++ : git://xenbits.xen.org/xen.git ++ : osstest@xenbits.xen.org:/home/xen/git/xen.git ++ : git://xenbits.xen.org/qemu-xen-traditional.git ++ : git://git.kernel.org ++ : git://git.kernel.org/pub/scm/linux/kernel/git ++ : git ++ : git://xenbits.xen.org/libvirt.git ++ : osstest@xenbits.xen.org:/home/xen/git/libvirt.git ++ : git://xenbits.xen.org/libvirt.git ++ : git://xenbits.xen.org/rumpuser-xen.git ++ : git ++ : git://xenbits.xen.org/rumpuser-xen.git ++ : osstest@xenbits.xen.org:/home/xen/git/rumpuser-xen.git +++ besteffort_repo https://github.com/rumpkernel/rumpkernel-netbsd-src +++ local repo=3Dhttps://github.com/rumpkernel/rumpkernel-netbsd-src +++ cached_repo https://github.com/rumpkernel/rumpkernel-netbsd-src '[fetch=3Dtry]' +++ local repo=3Dhttps://github.com/rumpkernel/rumpkernel-netbsd-src +++ local 'options=3D[fetch=3Dtry]' ++++ getconfig GitCacheProxy ++++ perl -e ' use Osstest; readglobalconfig(); print $c{"GitCacheProxy"} or die $!; ' +++ local cache=3Dgit://cache:9419/ +++ '[' xgit://cache:9419/ '!=3D' x ']' +++ echo 'git://cache:9419/https://github.com/rumpkernel/rumpkernel-netbsd-src%20[fetch=3Dtry]' ++ : 'git://cache:9419/https://github.com/rumpkernel/rumpkernel-netbsd-src%20[fetch=3Dtry]' ++ : git ++ : git://git.seabios.org/seabios.git ++ : osstest@xenbits.xen.org:/home/xen/git/osstest/seabios.git ++ : git://xenbits.xen.org/osstest/seabios.git ++ : https://github.com/tianocore/edk2.git ++ : osstest@xenbits.xen.org:/home/xen/git/osstest/ovmf.git ++ : git://xenbits.xen.org/osstest/ovmf.git ++ : git://xenbits.xen.org/osstest/linux-firmware.git ++ : osstest@xenbits.xen.org:/home/osstest/ext/linux-firmware.git ++ : git://git.kernel.org/pub/scm/linux/kernel/git/firmware/linux-firmware.git ++ : osstest@xenbits.xen.org:/home/xen/git/linux-pvops.git ++ : git://xenbits.xen.org/linux-pvops.git ++ : tested/linux-3.14 ++ : tested/linux-arm-xen ++ '[' xgit://xenbits.xen.org/linux-pvops.git =3D x ']' ++ '[' x =3D x ']' ++ : git://xenbits.xen.org/linux-pvops.git ++ : tested/linux-arm-xen ++ : git://git.kernel.org/pub/scm/linux/kernel/git/konrad/xen.git ++ : tested/2.6.39.x ++ : daily-cron.xen-unstable-coverity ++ : daily-cron.xen-unstable-coverity ++ : daily-cron.xen-unstable-coverity ++ : daily-cron.xen-unstable-coverity ++ : daily-cron.xen-unstable-coverity ++ : daily-cron.xen-unstable-coverity ++ : http://hg.uk.xensource.com/carbon/trunk/linux-2.6.27 ++ : git://xenbits.xen.org/qemu-xen.git ++ : osstest@xenbits.xen.org:/home/xen/git/qemu-xen.git ++ : daily-cron.xen-unstable-coverity ++ : git://xenbits.xen.org/qemu-xen.git ++ : git://git.qemu.org/qemu.git + TREE_LINUX=3Dosstest@xenbits.xen.org:/home/xen/git/linux-pvops.git + TREE_QEMU_UPSTREAM=3Dosstest@xenbits.xen.org:/home/xen/git/qemu-xen.git + TREE_XEN=3Dosstest@xenbits.xen.org:/home/xen/git/xen.git + TREE_LIBVIRT=3Dosstest@xenbits.xen.org:/home/xen/git/libvirt.git + TREE_RUMPUSERXEN=3Dosstest@xenbits.xen.org:/home/xen/git/rumpuser-xen.git + TREE_SEABIOS=3Dosstest@xenbits.xen.org:/home/xen/git/osstest/seabios.git + TREE_OVMF=3Dosstest@xenbits.xen.org:/home/xen/git/osstest/ovmf.git + info_linux_tree xen-unstable-coverity + case $1 in + return 1 + case "$branch" in + cd /home/osstest/repos/xen + git push osstest@xenbits.xen.org:/home/xen/git/xen.git 2066ddd2327daeb2d92687ea2a88383f0b57a56c:refs/heads/coverity-tested/master To osstest@xenbits.xen.org:/home/xen/git/xen.git 3fba5f5..2066ddd 2066ddd2327daeb2d92687ea2a88383f0b57a56c -> coverity-tested/master --===============0167834580224875583== Content-Type: text/plain; charset="us-ascii" MIME-Version: 1.0 Content-Transfer-Encoding: 7bit Content-Disposition: inline _______________________________________________ Xen-devel mailing list Xen-devel@lists.xen.org http://lists.xen.org/xen-devel --===============0167834580224875583==--