From mboxrd@z Thu Jan 1 00:00:00 1970 From: osstest service owner Subject: [xen-unstable test] 95612: trouble: preparing/queued Date: Mon, 13 Jun 2016 11:27:16 +0000 Message-ID: Mime-Version: 1.0 Content-Type: multipart/mixed; boundary="===============0070623993955196748==" Return-path: List-Unsubscribe: , List-Post: List-Help: List-Subscribe: , Errors-To: xen-devel-bounces@lists.xen.org Sender: "Xen-devel" To: xen-devel@lists.xensource.com, osstest-admin@xenproject.org List-Id: xen-devel@lists.xenproject.org --===============0070623993955196748== Content-Type: text/plain flight 95612 xen-unstable running [real] http://logs.test-lab.xenproject.org/osstest/logs/95612/ Failures and problems with tests :-( Tests which did not succeed and are blocking, including tests which could not be run: test-amd64-amd64-rumpuserxen-amd64 queued test-amd64-i386-rumpuserxen-i386 queued build-i386-libvirt queued build-amd64-libvirt queued build-amd64-rumpuserxen queued test-amd64-amd64-xl-pvh-amd queued test-amd64-amd64-xl-pvh-intel queued build-i386-rumpuserxen queued test-armhf-armhf-libvirt-xsm queued test-armhf-armhf-libvirt queued test-amd64-amd64-xl-credit2 queued test-amd64-i386-qemut-rhel6hvm-intel queued test-amd64-amd64-xl-multivcpu queued test-armhf-armhf-libvirt-qcow2 queued test-armhf-armhf-libvirt-raw queued test-amd64-i386-libvirt queued test-amd64-i386-xl-xsm queued test-amd64-amd64-xl-xsm queued test-amd64-amd64-xl queued build-armhf-libvirt queued test-amd64-i386-qemut-rhel6hvm-amd queued test-amd64-amd64-qemuu-nested-amd queued test-amd64-amd64-libvirt queued test-amd64-i386-qemuu-rhel6hvm-intel queued test-amd64-amd64-i386-pvgrub queued test-amd64-amd64-amd64-pvgrub queued test-amd64-amd64-pair queued test-amd64-i386-libvirt-pair queued test-amd64-amd64-pygrub queued test-amd64-amd64-libvirt-xsm queued test-amd64-i386-freebsd10-amd64 queued test-amd64-i386-libvirt-xsm queued test-armhf-armhf-xl-arndale queued test-amd64-amd64-libvirt-qemuu-debianhvm-amd64-xsm queued test-amd64-amd64-libvirt-pair queued test-amd64-amd64-migrupgrade queued test-amd64-i386-migrupgrade queued test-amd64-i386-freebsd10-i386 queued test-amd64-i386-libvirt-qemuu-debianhvm-amd64-xsm queued test-amd64-amd64-xl-qemut-debianhvm-amd64-xsm queued test-amd64-amd64-xl-qemut-win7-amd64 queued test-amd64-i386-xl-raw queued test-amd64-i386-xl-qemut-debianhvm-amd64-xsm queued test-armhf-armhf-xl-credit2 queued test-armhf-armhf-xl queued test-armhf-armhf-xl-xsm queued test-amd64-i386-xl-qemut-win7-amd64 queued test-armhf-armhf-xl-cubietruck queued test-amd64-i386-pair queued test-armhf-armhf-xl-multivcpu queued test-amd64-i386-xl-qemuu-win7-amd64 queued test-amd64-amd64-xl-qemut-debianhvm-amd64 queued test-amd64-amd64-qemuu-nested-intel queued test-amd64-amd64-xl-qcow2 queued test-amd64-amd64-xl-qemuu-debianhvm-amd64-xsm queued test-amd64-amd64-libvirt-vhd queued test-amd64-amd64-xl-qemuu-debianhvm-amd64 queued test-amd64-i386-xl-qemuu-debianhvm-amd64 queued test-amd64-amd64-xl-qemuu-win7-amd64 queued test-amd64-i386-xl queued test-amd64-i386-xl-qemut-debianhvm-amd64 queued test-amd64-i386-xl-qemuu-debianhvm-amd64-xsm queued test-amd64-i386-xl-qemut-stubdom-debianhvm-amd64-xsm queued test-amd64-i386-xl-qemuu-ovmf-amd64 queued test-amd64-amd64-xl-rtds queued test-amd64-i386-qemuu-rhel6hvm-amd queued test-armhf-armhf-xl-vhd queued test-amd64-amd64-xl-qemut-stubdom-debianhvm-amd64-xsm queued test-amd64-amd64-xl-qemuu-ovmf-amd64 queued test-armhf-armhf-xl-rtds queued test-amd64-i386-xl-qemut-winxpsp3-vcpus1 queued test-amd64-i386-xl-qemuu-winxpsp3-vcpus1 queued test-amd64-i386-xl-qemut-winxpsp3 queued test-amd64-amd64-xl-qemuu-winxpsp3 queued test-amd64-i386-xl-qemuu-winxpsp3 queued test-amd64-amd64-xl-qemut-winxpsp3 queued build-amd64-oldkern 2 hosts-allocate running build-i386-xsm 2 hosts-allocate running build-i386-pvops 2 hosts-allocate running build-amd64-pvops 2 hosts-allocate running build-i386-oldkern 2 hosts-allocate running build-amd64 2 hosts-allocate running build-i386-prev 2 hosts-allocate running build-amd64-xsm 2 hosts-allocate running build-amd64-prev 2 hosts-allocate running build-i386 2 hosts-allocate running build-armhf 2 hosts-allocate running build-armhf-xsm 2 hosts-allocate running build-armhf-pvops 2 hosts-allocate running version targeted for testing: xen 6e908ee108caec78f95e639b8ef43ac5dd1d5e45 baseline version: xen c2a17869d5dcd845d646bf4db122cad73596a2be Last test of basis 95353 2016-06-07 02:01:22 Z 6 days Failing since 95414 2016-06-08 03:47:23 Z 5 days 3 attempts Testing same since 95543 2016-06-11 05:42:46 Z 2 days 1 attempts ------------------------------------------------------------ People who touched revisions under test: Andrew Cooper Christoph Egger Daniel De Graaf Daniel Kiper Dongli Zhang Doug Goldstein Euan Harris George Dunlap George Dunlap Haozhong Zhang Ian Jackson Jan Beulich Jiandi An Julien Grall Kevin Tian Konrad Rzeszutek Wilk Konrad Rzeszutek Wilk Len Brown Paulina Szubarczyk Roger Pau Monné Stefano Stabellini Suravee Suthikulpanit Tim Deegan Wei Chen Wei Liu jobs: build-amd64-xsm preparing build-armhf-xsm preparing build-i386-xsm preparing build-amd64 preparing build-armhf preparing build-i386 preparing build-amd64-libvirt queued build-armhf-libvirt queued build-i386-libvirt queued build-amd64-oldkern preparing build-i386-oldkern preparing build-amd64-prev preparing build-i386-prev preparing build-amd64-pvops preparing build-armhf-pvops preparing build-i386-pvops preparing build-amd64-rumpuserxen queued build-i386-rumpuserxen queued test-amd64-amd64-xl queued test-armhf-armhf-xl queued test-amd64-i386-xl queued test-amd64-amd64-xl-qemut-debianhvm-amd64-xsm queued test-amd64-i386-xl-qemut-debianhvm-amd64-xsm queued test-amd64-amd64-libvirt-qemuu-debianhvm-amd64-xsm queued test-amd64-i386-libvirt-qemuu-debianhvm-amd64-xsm queued test-amd64-amd64-xl-qemuu-debianhvm-amd64-xsm queued test-amd64-i386-xl-qemuu-debianhvm-amd64-xsm queued test-amd64-amd64-xl-qemut-stubdom-debianhvm-amd64-xsm queued test-amd64-i386-xl-qemut-stubdom-debianhvm-amd64-xsm queued test-amd64-amd64-libvirt-xsm queued test-armhf-armhf-libvirt-xsm queued test-amd64-i386-libvirt-xsm queued test-amd64-amd64-xl-xsm queued test-armhf-armhf-xl-xsm queued test-amd64-i386-xl-xsm queued test-amd64-amd64-qemuu-nested-amd queued test-amd64-amd64-xl-pvh-amd queued test-amd64-i386-qemut-rhel6hvm-amd queued test-amd64-i386-qemuu-rhel6hvm-amd queued test-amd64-amd64-xl-qemut-debianhvm-amd64 queued test-amd64-i386-xl-qemut-debianhvm-amd64 queued test-amd64-amd64-xl-qemuu-debianhvm-amd64 queued test-amd64-i386-xl-qemuu-debianhvm-amd64 queued test-amd64-i386-freebsd10-amd64 queued test-amd64-amd64-xl-qemuu-ovmf-amd64 queued test-amd64-i386-xl-qemuu-ovmf-amd64 queued test-amd64-amd64-rumpuserxen-amd64 queued test-amd64-amd64-xl-qemut-win7-amd64 queued test-amd64-i386-xl-qemut-win7-amd64 queued test-amd64-amd64-xl-qemuu-win7-amd64 queued test-amd64-i386-xl-qemuu-win7-amd64 queued test-armhf-armhf-xl-arndale queued test-amd64-amd64-xl-credit2 queued test-armhf-armhf-xl-credit2 queued test-armhf-armhf-xl-cubietruck queued test-amd64-i386-freebsd10-i386 queued test-amd64-i386-rumpuserxen-i386 queued test-amd64-amd64-qemuu-nested-intel queued test-amd64-amd64-xl-pvh-intel queued test-amd64-i386-qemut-rhel6hvm-intel queued test-amd64-i386-qemuu-rhel6hvm-intel queued test-amd64-amd64-libvirt queued test-armhf-armhf-libvirt queued test-amd64-i386-libvirt queued test-amd64-amd64-migrupgrade queued test-amd64-i386-migrupgrade queued test-amd64-amd64-xl-multivcpu queued test-armhf-armhf-xl-multivcpu queued test-amd64-amd64-pair queued test-amd64-i386-pair queued test-amd64-amd64-libvirt-pair queued test-amd64-i386-libvirt-pair queued test-amd64-amd64-amd64-pvgrub queued test-amd64-amd64-i386-pvgrub queued test-amd64-amd64-pygrub queued test-armhf-armhf-libvirt-qcow2 queued test-amd64-amd64-xl-qcow2 queued test-armhf-armhf-libvirt-raw queued test-amd64-i386-xl-raw queued test-amd64-amd64-xl-rtds queued test-armhf-armhf-xl-rtds queued test-amd64-i386-xl-qemut-winxpsp3-vcpus1 queued test-amd64-i386-xl-qemuu-winxpsp3-vcpus1 queued test-amd64-amd64-libvirt-vhd queued test-armhf-armhf-xl-vhd queued test-amd64-amd64-xl-qemut-winxpsp3 queued test-amd64-i386-xl-qemut-winxpsp3 queued test-amd64-amd64-xl-qemuu-winxpsp3 queued test-amd64-i386-xl-qemuu-winxpsp3 queued ------------------------------------------------------------ sg-report-flight on osstest.test-lab.xenproject.org logs: /home/logs/logs images: /home/logs/images Logs, config files, etc. are available at http://logs.test-lab.xenproject.org/osstest/logs Explanation of these reports, and of osstest in general, is at http://xenbits.xen.org/gitweb/?p=osstest.git;a=blob;f=README.email;hb=master http://xenbits.xen.org/gitweb/?p=osstest.git;a=blob;f=README;hb=master Test harness code can be found at http://xenbits.xen.org/gitweb?p=osstest.git;a=summary broken-job test-amd64-amd64-rumpuserxen-amd64 queued broken-job test-amd64-i386-rumpuserxen-i386 queued broken-job build-i386-libvirt queued broken-job build-amd64-libvirt queued broken-job build-amd64-rumpuserxen queued broken-job test-amd64-amd64-xl-pvh-amd queued broken-job test-amd64-amd64-xl-pvh-intel queued broken-job build-i386-rumpuserxen queued broken-job test-armhf-armhf-libvirt-xsm queued broken-job test-armhf-armhf-libvirt queued broken-job test-amd64-amd64-xl-credit2 queued broken-job test-amd64-i386-qemut-rhel6hvm-intel queued broken-job test-amd64-amd64-xl-multivcpu queued broken-job test-armhf-armhf-libvirt-qcow2 queued broken-job test-armhf-armhf-libvirt-raw queued broken-job test-amd64-i386-libvirt queued broken-job test-amd64-i386-xl-xsm queued broken-job test-amd64-amd64-xl-xsm queued broken-job test-amd64-amd64-xl queued broken-job build-armhf-libvirt queued broken-job test-amd64-i386-qemut-rhel6hvm-amd queued broken-job test-amd64-amd64-qemuu-nested-amd queued broken-job test-amd64-amd64-libvirt queued broken-job test-amd64-i386-qemuu-rhel6hvm-intel queued broken-job test-amd64-amd64-i386-pvgrub queued broken-job test-amd64-amd64-amd64-pvgrub queued broken-job test-amd64-amd64-pair queued broken-job test-amd64-i386-libvirt-pair queued broken-job test-amd64-amd64-pygrub queued broken-job test-amd64-amd64-libvirt-xsm queued broken-job test-amd64-i386-freebsd10-amd64 queued broken-job test-amd64-i386-libvirt-xsm queued broken-job test-armhf-armhf-xl-arndale queued broken-job test-amd64-amd64-libvirt-qemuu-debianhvm-amd64-xsm queued broken-job test-amd64-amd64-libvirt-pair queued broken-job test-amd64-amd64-migrupgrade queued broken-job test-amd64-i386-migrupgrade queued broken-job test-amd64-i386-freebsd10-i386 queued broken-job test-amd64-i386-libvirt-qemuu-debianhvm-amd64-xsm queued broken-job test-amd64-amd64-xl-qemut-debianhvm-amd64-xsm queued broken-job test-amd64-amd64-xl-qemut-win7-amd64 queued broken-job test-amd64-i386-xl-raw queued broken-job test-amd64-i386-xl-qemut-debianhvm-amd64-xsm queued broken-job test-armhf-armhf-xl-credit2 queued broken-job test-armhf-armhf-xl queued broken-job test-armhf-armhf-xl-xsm queued broken-job test-amd64-i386-xl-qemut-win7-amd64 queued broken-job test-armhf-armhf-xl-cubietruck queued broken-job test-amd64-i386-pair queued broken-job test-armhf-armhf-xl-multivcpu queued broken-job test-amd64-i386-xl-qemuu-win7-amd64 queued broken-job test-amd64-amd64-xl-qemut-debianhvm-amd64 queued broken-job test-amd64-amd64-qemuu-nested-intel queued broken-job test-amd64-amd64-xl-qcow2 queued broken-job test-amd64-amd64-xl-qemuu-debianhvm-amd64-xsm queued broken-job test-amd64-amd64-libvirt-vhd queued broken-job test-amd64-amd64-xl-qemuu-debianhvm-amd64 queued broken-job test-amd64-i386-xl-qemuu-debianhvm-amd64 queued broken-job test-amd64-amd64-xl-qemuu-win7-amd64 queued broken-job test-amd64-i386-xl queued broken-job test-amd64-i386-xl-qemut-debianhvm-amd64 queued broken-job test-amd64-i386-xl-qemuu-debianhvm-amd64-xsm queued broken-job test-amd64-i386-xl-qemut-stubdom-debianhvm-amd64-xsm queued broken-job test-amd64-i386-xl-qemuu-ovmf-amd64 queued broken-job test-amd64-amd64-xl-rtds queued broken-job test-amd64-i386-qemuu-rhel6hvm-amd queued broken-job test-armhf-armhf-xl-vhd queued broken-job test-amd64-amd64-xl-qemut-stubdom-debianhvm-amd64-xsm queued broken-job test-amd64-amd64-xl-qemuu-ovmf-amd64 queued broken-job test-armhf-armhf-xl-rtds queued broken-job test-amd64-i386-xl-qemut-winxpsp3-vcpus1 queued broken-job test-amd64-i386-xl-qemuu-winxpsp3-vcpus1 queued broken-job test-amd64-i386-xl-qemut-winxpsp3 queued broken-job test-amd64-amd64-xl-qemuu-winxpsp3 queued broken-job test-amd64-i386-xl-qemuu-winxpsp3 queued broken-job test-amd64-amd64-xl-qemut-winxpsp3 queued Not pushing. (No revision log; it would be 818 lines long.) --===============0070623993955196748== Content-Type: text/plain; charset="utf-8" MIME-Version: 1.0 Content-Transfer-Encoding: base64 Content-Disposition: inline X19fX19fX19fX19fX19fX19fX19fX19fX19fX19fX19fX19fX19fX19fX19fX18KWGVuLWRldmVs IG1haWxpbmcgbGlzdApYZW4tZGV2ZWxAbGlzdHMueGVuLm9yZwpodHRwOi8vbGlzdHMueGVuLm9y Zy94ZW4tZGV2ZWwK --===============0070623993955196748==--