From: osstest service owner <osstest-admin@xenproject.org>
To: xen-devel@lists.xensource.com, osstest-admin@xenproject.org
Subject: [qemu-mainline test] 97264: trouble: pass/preparing/queued/running
Date: Wed, 13 Jul 2016 13:06:23 +0000 [thread overview]
Message-ID: <osstest-97264-mainreport@xen.org> (raw)
[-- Attachment #1: Type: text/plain, Size: 12035 bytes --]
flight 97264 qemu-mainline running [real]
http://logs.test-lab.xenproject.org/osstest/logs/97264/
Failures and problems with tests :-(
Tests which did not succeed and are blocking,
including tests which could not be run:
test-armhf-armhf-libvirt <none executed> queued
test-armhf-armhf-libvirt-qcow2 <none executed> queued
test-armhf-armhf-xl-arndale <none executed> queued
test-armhf-armhf-xl <none executed> queued
test-armhf-armhf-xl-credit2 <none executed> queued
test-armhf-armhf-xl-cubietruck <none executed> queued
test-armhf-armhf-libvirt-xsm <none executed> queued
test-armhf-armhf-xl-rtds <none executed> queued
test-armhf-armhf-libvirt-raw <none executed> queued
test-armhf-armhf-xl-xsm <none executed> queued
test-armhf-armhf-xl-vhd <none executed> queued
test-armhf-armhf-xl-multivcpu <none executed> queued
test-amd64-amd64-xl-pvh-amd 2 hosts-allocate running
test-amd64-amd64-xl-pvh-intel 2 hosts-allocate running
test-amd64-amd64-xl 2 hosts-allocate running
test-amd64-amd64-libvirt-xsm 2 hosts-allocate running
test-amd64-i386-xl-xsm 2 hosts-allocate running
test-amd64-i386-libvirt 2 hosts-allocate running
test-amd64-amd64-xl-credit2 2 hosts-allocate running
test-amd64-amd64-xl-xsm 2 hosts-allocate running
test-amd64-i386-xl 2 hosts-allocate running
test-amd64-amd64-xl-multivcpu 2 hosts-allocate running
test-amd64-amd64-pygrub 2 hosts-allocate running
test-amd64-amd64-pair 2 hosts-allocate running
test-amd64-amd64-i386-pvgrub 2 hosts-allocate running
test-amd64-amd64-amd64-pvgrub 2 hosts-allocate running
test-amd64-amd64-libvirt-pair 2 hosts-allocate running
test-amd64-amd64-qemuu-nested-amd 2 hosts-allocate running
build-armhf-libvirt 5 libvirt-build running
test-amd64-i386-freebsd10-i386 2 hosts-allocate running
test-amd64-i386-qemuu-rhel6hvm-intel 2 hosts-allocate running
test-amd64-amd64-libvirt-qemuu-debianhvm-amd64-xsm 2 hosts-allocate running
test-amd64-i386-qemuu-rhel6hvm-amd 2 hosts-allocate running
test-amd64-i386-libvirt-pair 2 hosts-allocate running
test-amd64-amd64-qemuu-nested-intel 2 hosts-allocate running
test-amd64-i386-pair 2 hosts-allocate running
test-amd64-i386-libvirt-xsm 2 hosts-allocate running
test-amd64-amd64-xl-qemuu-win7-amd64 2 hosts-allocate running
test-amd64-amd64-libvirt 2 hosts-allocate running
test-amd64-i386-xl-qemuu-win7-amd64 2 hosts-allocate running
test-amd64-i386-libvirt-qemuu-debianhvm-amd64-xsm 2 hosts-allocate running
test-amd64-i386-xl-qemuu-debianhvm-amd64 2 hosts-allocate running
test-amd64-amd64-xl-qemuu-debianhvm-amd64-xsm 2 hosts-allocate running
test-amd64-amd64-xl-qemuu-debianhvm-amd64 2 hosts-allocate running
test-amd64-amd64-xl-qcow2 2 hosts-allocate running
test-amd64-i386-xl-qemuu-debianhvm-amd64-xsm 2 hosts-allocate running
test-amd64-amd64-xl-qemuu-ovmf-amd64 2 hosts-allocate running
test-amd64-i386-freebsd10-amd64 2 hosts-allocate running
test-amd64-i386-xl-qemuu-ovmf-amd64 2 hosts-allocate running
test-amd64-amd64-libvirt-vhd 2 hosts-allocate running
test-amd64-i386-xl-raw 2 hosts-allocate running
test-amd64-amd64-xl-rtds 2 hosts-allocate running
test-amd64-i386-xl-qemuu-winxpsp3-vcpus1 2 hosts-allocate running
build-armhf-pvops 5 kernel-build running
test-amd64-amd64-xl-qemuu-winxpsp3 2 hosts-allocate running
test-amd64-i386-xl-qemuu-winxpsp3 2 hosts-allocate running
version targeted for testing:
qemuu ca3d87d4c84032f19478010b5604cac88b045c25
baseline version:
qemuu 4f4a9ca4a4386c137301b3662faba076455ff15a
Last test of basis 96791 2016-07-08 12:20:07 Z 5 days
Testing same since 0 1970-01-01 00:00:00 Z 16995 days 0 attempts
------------------------------------------------------------
People who touched revisions under test:
Alex Bennée <alex.bennee@linaro.org>
Alexander Yarygin <yarygin@linux.vnet.ibm.com>
Anthony PERARD <anthony.perard@citrix.com>
Ashok Raj <ashok.raj@intel.com>
Cornelia Huck <cornelia.huck@de.ibm.com>
Daniel P. Berrange <berrange@redhat.com>
David Gibson <david@gibson.dropbear.id.au>
David Hildenbrand <dahi@linux.vnet.ibm.com>
Denis V. Lunev <den@openvz.org>
Eduardo Habkost <ehabkost@redhat.com>
Eric Blake <eblake@redhat.com>
Eugene (jno) Dvurechenski <jno@linux.vnet.ibm.com>
Evgeny Yakovlev <eyakovlev@virtuozzo.com>
Gerd Hoffmann <kraxel@redhat.com>
Gonglei <arei.gonglei@huawei.com>
Haibin Wang <wanghaibin.wang@huawei.com>
Haozhong Zhang <haozhong.zhang@intel.com>
Igor Mammedov <imammedo@redhat.com>
James Hogan <james.hogan@imgtec.com>
Jing Liu <liujbjl@linux.vnet.ibm.com>
Leon Alrae <leon.alrae@imgtec.com>
Markus Armbruster <armbru@redhat.com>
Paolo Bonzini <pbonzini@redhat.com>
Paul Burton <paul.burton@imgtec.com>
Peter Lieven <pl@kamp.de>
Peter Maydell <peter.maydell@linaro.org>
Pierre Morel <pmorel@linux.vnet.ibm.com>
Richard Henderson <rth@twiddle.net>
Samuel Damashek <samuel.damashek@invincea.com>
Sascha Silbe <silbe@linux.vnet.ibm.com>
Sergey Sorokin <afarallax@yandex.ru>
Stanislav Shmarov <snarpix@gmail.com>
Yi Min Zhao <zyimin@linux.vnet.ibm.com>
Yongbok Kim <yongbok.kim@imgtec.com>
Zhang Shuaiyi <zhang_syi@massclouds.com>
jobs:
build-amd64-xsm pass
build-armhf-xsm pass
build-i386-xsm pass
build-amd64 pass
build-armhf pass
build-i386 pass
build-amd64-libvirt pass
build-armhf-libvirt running
build-i386-libvirt pass
build-amd64-pvops pass
build-armhf-pvops running
build-i386-pvops pass
test-amd64-amd64-xl preparing
test-armhf-armhf-xl queued
test-amd64-i386-xl preparing
test-amd64-amd64-libvirt-qemuu-debianhvm-amd64-xsm preparing
test-amd64-i386-libvirt-qemuu-debianhvm-amd64-xsm preparing
test-amd64-amd64-xl-qemuu-debianhvm-amd64-xsm preparing
test-amd64-i386-xl-qemuu-debianhvm-amd64-xsm preparing
test-amd64-amd64-libvirt-xsm preparing
test-armhf-armhf-libvirt-xsm queued
test-amd64-i386-libvirt-xsm preparing
test-amd64-amd64-xl-xsm preparing
test-armhf-armhf-xl-xsm queued
test-amd64-i386-xl-xsm preparing
test-amd64-amd64-qemuu-nested-amd preparing
test-amd64-amd64-xl-pvh-amd preparing
test-amd64-i386-qemuu-rhel6hvm-amd preparing
test-amd64-amd64-xl-qemuu-debianhvm-amd64 preparing
test-amd64-i386-xl-qemuu-debianhvm-amd64 preparing
test-amd64-i386-freebsd10-amd64 preparing
test-amd64-amd64-xl-qemuu-ovmf-amd64 preparing
test-amd64-i386-xl-qemuu-ovmf-amd64 preparing
test-amd64-amd64-xl-qemuu-win7-amd64 preparing
test-amd64-i386-xl-qemuu-win7-amd64 preparing
test-armhf-armhf-xl-arndale queued
test-amd64-amd64-xl-credit2 preparing
test-armhf-armhf-xl-credit2 queued
test-armhf-armhf-xl-cubietruck queued
test-amd64-i386-freebsd10-i386 preparing
test-amd64-amd64-qemuu-nested-intel preparing
test-amd64-amd64-xl-pvh-intel preparing
test-amd64-i386-qemuu-rhel6hvm-intel preparing
test-amd64-amd64-libvirt preparing
test-armhf-armhf-libvirt queued
test-amd64-i386-libvirt preparing
test-amd64-amd64-xl-multivcpu preparing
test-armhf-armhf-xl-multivcpu queued
test-amd64-amd64-pair preparing
test-amd64-i386-pair preparing
test-amd64-amd64-libvirt-pair preparing
test-amd64-i386-libvirt-pair preparing
test-amd64-amd64-amd64-pvgrub preparing
test-amd64-amd64-i386-pvgrub preparing
test-amd64-amd64-pygrub preparing
test-armhf-armhf-libvirt-qcow2 queued
test-amd64-amd64-xl-qcow2 preparing
test-armhf-armhf-libvirt-raw queued
test-amd64-i386-xl-raw preparing
test-amd64-amd64-xl-rtds preparing
test-armhf-armhf-xl-rtds queued
test-amd64-i386-xl-qemuu-winxpsp3-vcpus1 preparing
test-amd64-amd64-libvirt-vhd preparing
test-armhf-armhf-xl-vhd queued
test-amd64-amd64-xl-qemuu-winxpsp3 preparing
test-amd64-i386-xl-qemuu-winxpsp3 preparing
------------------------------------------------------------
sg-report-flight on osstest.test-lab.xenproject.org
logs: /home/logs/logs
images: /home/logs/images
Logs, config files, etc. are available at
http://logs.test-lab.xenproject.org/osstest/logs
Explanation of these reports, and of osstest in general, is at
http://xenbits.xen.org/gitweb/?p=osstest.git;a=blob;f=README.email;hb=master
http://xenbits.xen.org/gitweb/?p=osstest.git;a=blob;f=README;hb=master
Test harness code can be found at
http://xenbits.xen.org/gitweb?p=osstest.git;a=summary
broken-job test-armhf-armhf-libvirt queued
broken-job test-armhf-armhf-libvirt-qcow2 queued
broken-job test-armhf-armhf-xl-arndale queued
broken-job test-armhf-armhf-xl queued
broken-job test-armhf-armhf-xl-credit2 queued
broken-job test-armhf-armhf-xl-cubietruck queued
broken-job test-armhf-armhf-libvirt-xsm queued
broken-job test-armhf-armhf-xl-rtds queued
broken-job test-armhf-armhf-libvirt-raw queued
broken-job test-armhf-armhf-xl-xsm queued
broken-job test-armhf-armhf-xl-vhd queued
broken-job test-armhf-armhf-xl-multivcpu queued
Not pushing.
(No revision log; it would be 1960 lines long.)
[-- Attachment #2: Type: text/plain, Size: 127 bytes --]
_______________________________________________
Xen-devel mailing list
Xen-devel@lists.xen.org
https://lists.xen.org/xen-devel
reply other threads:[~2016-07-13 13:06 UTC|newest]
Thread overview: [no followups] expand[flat|nested] mbox.gz Atom feed
Reply instructions:
You may reply publicly to this message via plain-text email
using any one of the following methods:
* Save the following mbox file, import it into your mail client,
and reply-to-all from there: mbox
Avoid top-posting and favor interleaved quoting:
https://en.wikipedia.org/wiki/Posting_style#Interleaved_style
* Reply using the --to, --cc, and --in-reply-to
switches of git-send-email(1):
git send-email \
--in-reply-to=osstest-97264-mainreport@xen.org \
--to=osstest-admin@xenproject.org \
--cc=xen-devel@lists.xensource.com \
/path/to/YOUR_REPLY
https://kernel.org/pub/software/scm/git/docs/git-send-email.html
* If your mail client supports setting the In-Reply-To header
via mailto: links, try the mailto: link
Be sure your reply has a Subject: header at the top and a blank line
before the message body.
This is a public inbox, see mirroring instructions
for how to clone and mirror all data and code used for this inbox;
as well as URLs for NNTP newsgroup(s).