From mboxrd@z Thu Jan 1 00:00:00 1970 From: osstest service owner Subject: [ovmf test] 99649: all pass - PUSHED Date: Mon, 25 Jul 2016 20:45:07 +0000 Message-ID: Mime-Version: 1.0 Content-Type: multipart/mixed; boundary="===============6780415488361715435==" Return-path: List-Unsubscribe: , List-Post: List-Help: List-Subscribe: , Errors-To: xen-devel-bounces@lists.xen.org Sender: "Xen-devel" To: xen-devel@lists.xensource.com, osstest-admin@xenproject.org List-Id: xen-devel@lists.xenproject.org --===============6780415488361715435== Content-Type: text/plain flight 99649 ovmf real [real] http://logs.test-lab.xenproject.org/osstest/logs/99649/ Perfect :-) All tests in this flight passed as required version targeted for testing: ovmf 227a1ac2d04504eee4c624f534ea3fcbb8140029 baseline version: ovmf dc99315b8732b6e3032d01319d3f534d440b43d0 Last test of basis 94748 2016-05-24 22:43:25 Z 61 days Failing since 94750 2016-05-25 03:43:08 Z 61 days 125 attempts Testing same since 99608 2016-07-25 10:57:02 Z 0 days 4 attempts ------------------------------------------------------------ People who touched revisions under test: Anandakrishnan Loganathan Ard Biesheuvel Bi, Dandan Bret Barkelew Bruce Cran Bruce Cran Chao Zhang Cinnamon Shia Cohen, Eugene Dandan Bi Darbin Reyes david wei Eric Dong Eugene Cohen Evan Lloyd Evgeny Yakovlev Feng Tian Fu Siyuan Fu, Siyuan Gary Li Gary Lin Giri P Mudusuru Graeme Gregory Hao Wu Hegde Nagaraj P Hegde, Nagaraj P hegdenag Heyi Guo Jan D?bro? Jan Dabros Jeff Fan Jeremy Linton Jiaxin Wu Jiewen Yao Joe Zhou Jordan Justen Katie Dellaquila Laszlo Ersek Liming Gao Lu, ShifeiX A lushifex Marcin Wojtas Mark Rutland Marvin H?user Marvin Haeuser Maurice Ma Michael Chang Michael Zimmermann Mudusuru, Giri P Ni, Ruiyu Qin Long Qiu Shumin Ruiyu Ni Ruiyu Ni  Ryan Harkin Sami Mujawar Satya Yarlagadda Shannon Zhao Shi, Steven Sriram Subramanian Star Zeng Steven Shi Subramanian, Sriram (EG Servers Platform SW) Sunny Wang Tapan Shah Thomas Palmer Yarlagadda, Satya P Yonghong Zhu Zhang Lubo Zhang, Chao B Zhang, Lubo jobs: build-amd64-xsm pass build-i386-xsm pass build-amd64 pass build-i386 pass build-amd64-libvirt pass build-i386-libvirt pass build-amd64-pvops pass build-i386-pvops pass test-amd64-amd64-xl-qemuu-ovmf-amd64 pass test-amd64-i386-xl-qemuu-ovmf-amd64 pass ------------------------------------------------------------ sg-report-flight on osstest.test-lab.xenproject.org logs: /home/logs/logs images: /home/logs/images Logs, config files, etc. are available at http://logs.test-lab.xenproject.org/osstest/logs Explanation of these reports, and of osstest in general, is at http://xenbits.xen.org/gitweb/?p=osstest.git;a=blob;f=README.email;hb=master http://xenbits.xen.org/gitweb/?p=osstest.git;a=blob;f=README;hb=master Test harness code can be found at http://xenbits.xen.org/gitweb?p=osstest.git;a=summary Pushing revision : + branch=ovmf + revision=227a1ac2d04504eee4c624f534ea3fcbb8140029 + . ./cri-lock-repos ++ . ./cri-common +++ . ./cri-getconfig +++ umask 002 +++ getrepos ++++ getconfig Repos ++++ perl -e ' use Osstest; readglobalconfig(); print $c{"Repos"} or die $!; ' +++ local repos=/home/osstest/repos +++ '[' -z /home/osstest/repos ']' +++ '[' '!' -d /home/osstest/repos ']' +++ echo /home/osstest/repos ++ repos=/home/osstest/repos ++ repos_lock=/home/osstest/repos/lock ++ '[' x '!=' x/home/osstest/repos/lock ']' ++ OSSTEST_REPOS_LOCK_LOCKED=/home/osstest/repos/lock ++ exec with-lock-ex -w /home/osstest/repos/lock ./ap-push ovmf 227a1ac2d04504eee4c624f534ea3fcbb8140029 + branch=ovmf + revision=227a1ac2d04504eee4c624f534ea3fcbb8140029 + . ./cri-lock-repos ++ . ./cri-common +++ . ./cri-getconfig +++ umask 002 +++ getrepos ++++ getconfig Repos ++++ perl -e ' use Osstest; readglobalconfig(); print $c{"Repos"} or die $!; ' +++ local repos=/home/osstest/repos +++ '[' -z /home/osstest/repos ']' +++ '[' '!' -d /home/osstest/repos ']' +++ echo /home/osstest/repos ++ repos=/home/osstest/repos ++ repos_lock=/home/osstest/repos/lock ++ '[' x/home/osstest/repos/lock '!=' x/home/osstest/repos/lock ']' + . ./cri-common ++ . ./cri-getconfig ++ umask 002 + select_xenbranch + case "$branch" in + tree=ovmf + xenbranch=xen-unstable + '[' xovmf = xlinux ']' + linuxbranch= + '[' x = x ']' + qemuubranch=qemu-upstream-unstable + select_prevxenbranch ++ ./cri-getprevxenbranch xen-unstable + prevxenbranch=xen-4.7-testing + '[' x227a1ac2d04504eee4c624f534ea3fcbb8140029 = x ']' + : tested/2.6.39.x + . ./ap-common ++ : osstest@xenbits.xen.org +++ getconfig OsstestUpstream +++ perl -e ' use Osstest; readglobalconfig(); print $c{"OsstestUpstream"} or die $!; ' ++ : ++ : git://xenbits.xen.org/xen.git ++ : osstest@xenbits.xen.org:/home/xen/git/xen.git ++ : git://xenbits.xen.org/qemu-xen-traditional.git ++ : git://git.kernel.org ++ : git://git.kernel.org/pub/scm/linux/kernel/git ++ : git ++ : git://xenbits.xen.org/libvirt.git ++ : osstest@xenbits.xen.org:/home/xen/git/libvirt.git ++ : git://xenbits.xen.org/libvirt.git ++ : git://xenbits.xen.org/rumpuser-xen.git ++ : git ++ : git://xenbits.xen.org/rumpuser-xen.git ++ : osstest@xenbits.xen.org:/home/xen/git/rumpuser-xen.git +++ besteffort_repo https://github.com/rumpkernel/rumpkernel-netbsd-src +++ local repo=https://github.com/rumpkernel/rumpkernel-netbsd-src +++ cached_repo https://github.com/rumpkernel/rumpkernel-netbsd-src '[fetch=try]' +++ local repo=https://github.com/rumpkernel/rumpkernel-netbsd-src +++ local 'options=[fetch=try]' ++++ getconfig GitCacheProxy ++++ perl -e ' use Osstest; readglobalconfig(); print $c{"GitCacheProxy"} or die $!; ' +++ local cache=git://cache:9419/ +++ '[' xgit://cache:9419/ '!=' x ']' +++ echo 'git://cache:9419/https://github.com/rumpkernel/rumpkernel-netbsd-src%20[fetch=try]' ++ : 'git://cache:9419/https://github.com/rumpkernel/rumpkernel-netbsd-src%20[fetch=try]' ++ : git ++ : git://git.seabios.org/seabios.git ++ : osstest@xenbits.xen.org:/home/xen/git/osstest/seabios.git ++ : git://xenbits.xen.org/osstest/seabios.git ++ : https://github.com/tianocore/edk2.git ++ : osstest@xenbits.xen.org:/home/xen/git/osstest/ovmf.git ++ : git://xenbits.xen.org/osstest/ovmf.git ++ : git://xenbits.xen.org/osstest/linux-firmware.git ++ : osstest@xenbits.xen.org:/home/osstest/ext/linux-firmware.git ++ : git://git.kernel.org/pub/scm/linux/kernel/git/firmware/linux-firmware.git ++ : osstest@xenbits.xen.org:/home/xen/git/linux-pvops.git ++ : git://xenbits.xen.org/linux-pvops.git ++ : tested/linux-3.14 ++ : tested/linux-arm-xen ++ '[' xgit://xenbits.xen.org/linux-pvops.git = x ']' ++ '[' x = x ']' ++ : git://xenbits.xen.org/linux-pvops.git ++ : tested/linux-arm-xen ++ : git://git.kernel.org/pub/scm/linux/kernel/git/konrad/xen.git ++ : tested/2.6.39.x ++ : daily-cron.ovmf ++ : daily-cron.ovmf ++ : daily-cron.ovmf ++ : daily-cron.ovmf ++ : daily-cron.ovmf ++ : daily-cron.ovmf ++ : http://hg.uk.xensource.com/carbon/trunk/linux-2.6.27 ++ : git://xenbits.xen.org/qemu-xen.git ++ : osstest@xenbits.xen.org:/home/xen/git/qemu-xen.git ++ : daily-cron.ovmf ++ : git://xenbits.xen.org/qemu-xen.git ++ : git://git.qemu.org/qemu.git + TREE_LINUX=osstest@xenbits.xen.org:/home/xen/git/linux-pvops.git + TREE_QEMU_UPSTREAM=osstest@xenbits.xen.org:/home/xen/git/qemu-xen.git + TREE_XEN=osstest@xenbits.xen.org:/home/xen/git/xen.git + TREE_LIBVIRT=osstest@xenbits.xen.org:/home/xen/git/libvirt.git + TREE_RUMPUSERXEN=osstest@xenbits.xen.org:/home/xen/git/rumpuser-xen.git + TREE_SEABIOS=osstest@xenbits.xen.org:/home/xen/git/osstest/seabios.git + TREE_OVMF=osstest@xenbits.xen.org:/home/xen/git/osstest/ovmf.git + info_linux_tree ovmf + case $1 in + return 1 + case "$branch" in + cd /home/osstest/repos/ovmf + git push osstest@xenbits.xen.org:/home/xen/git/osstest/ovmf.git 227a1ac2d04504eee4c624f534ea3fcbb8140029:refs/heads/xen-tested-master To osstest@xenbits.xen.org:/home/xen/git/osstest/ovmf.git dc99315..227a1ac 227a1ac2d04504eee4c624f534ea3fcbb8140029 -> xen-tested-master --===============6780415488361715435== Content-Type: text/plain; charset="utf-8" MIME-Version: 1.0 Content-Transfer-Encoding: base64 Content-Disposition: inline X19fX19fX19fX19fX19fX19fX19fX19fX19fX19fX19fX19fX19fX19fX19fX18KWGVuLWRldmVs IG1haWxpbmcgbGlzdApYZW4tZGV2ZWxAbGlzdHMueGVuLm9yZwpodHRwczovL2xpc3RzLnhlbi5v cmcveGVuLWRldmVsCg== --===============6780415488361715435==--