xen-devel.lists.xenproject.org archive mirror
 help / color / mirror / Atom feed
From: osstest service owner <osstest-admin@xenproject.org>
To: xen-devel@lists.xensource.com, osstest-admin@xenproject.org
Subject: [ovmf test] 99981: trouble: broken/pass
Date: Sat, 06 Aug 2016 16:48:32 +0000	[thread overview]
Message-ID: <osstest-99981-mainreport@xen.org> (raw)

flight 99981 ovmf real [real]
http://logs.test-lab.xenproject.org/osstest/logs/99981/

Failures and problems with tests :-(

Tests which did not succeed and are blocking,
including tests which could not be run:
 test-amd64-amd64-xl-qemuu-ovmf-amd64  3 host-install(3) broken REGR. vs. 99968

version targeted for testing:
 ovmf                 7e9cf612056ed2667eaad7f0e901f0a37f6ddd5b
baseline version:
 ovmf                 0667e985270b5c2cc5d89e66bcff7e5804eee21f

Last test of basis    99968  2016-08-05 14:45:28 Z    1 days
Testing same since    99981  2016-08-06 03:21:03 Z    0 days    1 attempts

------------------------------------------------------------
People who touched revisions under test:
  Maurice Ma <maurice.ma@intel.com>

jobs:
 build-amd64-xsm                                              pass    
 build-i386-xsm                                               pass    
 build-amd64                                                  pass    
 build-i386                                                   pass    
 build-amd64-libvirt                                          pass    
 build-i386-libvirt                                           pass    
 build-amd64-pvops                                            pass    
 build-i386-pvops                                             pass    
 test-amd64-amd64-xl-qemuu-ovmf-amd64                         broken  
 test-amd64-i386-xl-qemuu-ovmf-amd64                          pass    


------------------------------------------------------------
sg-report-flight on osstest.test-lab.xenproject.org
logs: /home/logs/logs
images: /home/logs/images

Logs, config files, etc. are available at
    http://logs.test-lab.xenproject.org/osstest/logs

Explanation of these reports, and of osstest in general, is at
    http://xenbits.xen.org/gitweb/?p=osstest.git;a=blob;f=README.email;hb=master
    http://xenbits.xen.org/gitweb/?p=osstest.git;a=blob;f=README;hb=master

Test harness code can be found at
    http://xenbits.xen.org/gitweb?p=osstest.git;a=summary

broken-step test-amd64-amd64-xl-qemuu-ovmf-amd64 host-install(3)

Not pushing.

------------------------------------------------------------
commit 7e9cf612056ed2667eaad7f0e901f0a37f6ddd5b
Author: Maurice Ma <maurice.ma@intel.com>
Date:   Thu Aug 4 20:56:57 2016 -0700

    IntelFsp2Pkg: Only include required header files in FspEas.h
    
    Current FspEas.h file includes Uefi.h which also refers to lots of other
    UEFI header files not used by FSP consumer. It caused many unnecessary
    header file overhead for a bootloader that consumes FSP, such as coreboot.
    This change reduces the required header file number down to 3.
    
    Cc: Jiewen Yao <jiewen.yao@intel.com>
    Cc: Giri P Mudusuru <giri.p.mudusuru@intel.com>
    Contributed-under: TianoCore Contribution Agreement 1.0
    Signed-off-by: Maurice Ma <maurice.ma@intel.com>
    Reviewed by: Giri P Mudusuru <giri.p.mudusuru@intel.com>

_______________________________________________
Xen-devel mailing list
Xen-devel@lists.xen.org
https://lists.xen.org/xen-devel

                 reply	other threads:[~2016-08-06 16:48 UTC|newest]

Thread overview: [no followups] expand[flat|nested]  mbox.gz  Atom feed

Reply instructions:

You may reply publicly to this message via plain-text email
using any one of the following methods:

* Save the following mbox file, import it into your mail client,
  and reply-to-all from there: mbox

  Avoid top-posting and favor interleaved quoting:
  https://en.wikipedia.org/wiki/Posting_style#Interleaved_style

* Reply using the --to, --cc, and --in-reply-to
  switches of git-send-email(1):

  git send-email \
    --in-reply-to=osstest-99981-mainreport@xen.org \
    --to=osstest-admin@xenproject.org \
    --cc=xen-devel@lists.xensource.com \
    /path/to/YOUR_REPLY

  https://kernel.org/pub/software/scm/git/docs/git-send-email.html

* If your mail client supports setting the In-Reply-To header
  via mailto: links, try the mailto: link
Be sure your reply has a Subject: header at the top and a blank line before the message body.
This is a public inbox, see mirroring instructions
for how to clone and mirror all data and code used for this inbox;
as well as URLs for NNTP newsgroup(s).